BEGIN:VCALENDAR
VERSION:2.0
PRODID:-//Training Calendar - ECPv6.15.11//NONSGML v1.0//EN
CALSCALE:GREGORIAN
METHOD:PUBLISH
X-WR-CALNAME:Training Calendar
X-ORIGINAL-URL:https://trainingcalendar.extremenetworks.com
X-WR-CALDESC:Events for Training Calendar
REFRESH-INTERVAL;VALUE=DURATION:PT1H
X-Robots-Tag:noindex
X-PUBLISHED-TTL:PT1H
BEGIN:VTIMEZONE
TZID:Europe/Paris
BEGIN:DAYLIGHT
TZOFFSETFROM:+0100
TZOFFSETTO:+0200
TZNAME:CEST
DTSTART:20250330T010000
END:DAYLIGHT
BEGIN:STANDARD
TZOFFSETFROM:+0200
TZOFFSETTO:+0100
TZNAME:CET
DTSTART:20251026T010000
END:STANDARD
BEGIN:DAYLIGHT
TZOFFSETFROM:+0100
TZOFFSETTO:+0200
TZNAME:CEST
DTSTART:20260329T010000
END:DAYLIGHT
BEGIN:STANDARD
TZOFFSETFROM:+0200
TZOFFSETTO:+0100
TZNAME:CET
DTSTART:20261025T010000
END:STANDARD
BEGIN:DAYLIGHT
TZOFFSETFROM:+0100
TZOFFSETTO:+0200
TZNAME:CEST
DTSTART:20270328T010000
END:DAYLIGHT
BEGIN:STANDARD
TZOFFSETFROM:+0200
TZOFFSETTO:+0100
TZNAME:CET
DTSTART:20271031T010000
END:STANDARD
END:VTIMEZONE
BEGIN:VTIMEZONE
TZID:America/New_York
BEGIN:DAYLIGHT
TZOFFSETFROM:-0500
TZOFFSETTO:-0400
TZNAME:EDT
DTSTART:20250309T070000
END:DAYLIGHT
BEGIN:STANDARD
TZOFFSETFROM:-0400
TZOFFSETTO:-0500
TZNAME:EST
DTSTART:20251102T060000
END:STANDARD
BEGIN:DAYLIGHT
TZOFFSETFROM:-0500
TZOFFSETTO:-0400
TZNAME:EDT
DTSTART:20260308T070000
END:DAYLIGHT
BEGIN:STANDARD
TZOFFSETFROM:-0400
TZOFFSETTO:-0500
TZNAME:EST
DTSTART:20261101T060000
END:STANDARD
BEGIN:DAYLIGHT
TZOFFSETFROM:-0500
TZOFFSETTO:-0400
TZNAME:EDT
DTSTART:20270314T070000
END:DAYLIGHT
BEGIN:STANDARD
TZOFFSETFROM:-0400
TZOFFSETTO:-0500
TZNAME:EST
DTSTART:20271107T060000
END:STANDARD
END:VTIMEZONE
BEGIN:VTIMEZONE
TZID:America/Mexico_City
BEGIN:STANDARD
TZOFFSETFROM:-0600
TZOFFSETTO:-0600
TZNAME:CST
DTSTART:20250101T000000
END:STANDARD
END:VTIMEZONE
BEGIN:VTIMEZONE
TZID:Europe/Warsaw
BEGIN:DAYLIGHT
TZOFFSETFROM:+0100
TZOFFSETTO:+0200
TZNAME:CEST
DTSTART:20250330T010000
END:DAYLIGHT
BEGIN:STANDARD
TZOFFSETFROM:+0200
TZOFFSETTO:+0100
TZNAME:CET
DTSTART:20251026T010000
END:STANDARD
BEGIN:DAYLIGHT
TZOFFSETFROM:+0100
TZOFFSETTO:+0200
TZNAME:CEST
DTSTART:20260329T010000
END:DAYLIGHT
BEGIN:STANDARD
TZOFFSETFROM:+0200
TZOFFSETTO:+0100
TZNAME:CET
DTSTART:20261025T010000
END:STANDARD
BEGIN:DAYLIGHT
TZOFFSETFROM:+0100
TZOFFSETTO:+0200
TZNAME:CEST
DTSTART:20270328T010000
END:DAYLIGHT
BEGIN:STANDARD
TZOFFSETFROM:+0200
TZOFFSETTO:+0100
TZNAME:CET
DTSTART:20271031T010000
END:STANDARD
END:VTIMEZONE
BEGIN:VTIMEZONE
TZID:Asia/Kolkata
BEGIN:STANDARD
TZOFFSETFROM:+0530
TZOFFSETTO:+0530
TZNAME:IST
DTSTART:20250101T000000
END:STANDARD
END:VTIMEZONE
BEGIN:VTIMEZONE
TZID:Asia/Shanghai
BEGIN:STANDARD
TZOFFSETFROM:+0800
TZOFFSETTO:+0800
TZNAME:CST
DTSTART:20250101T000000
END:STANDARD
END:VTIMEZONE
BEGIN:VTIMEZONE
TZID:Europe/Lisbon
BEGIN:DAYLIGHT
TZOFFSETFROM:+0000
TZOFFSETTO:+0100
TZNAME:WEST
DTSTART:20250330T010000
END:DAYLIGHT
BEGIN:STANDARD
TZOFFSETFROM:+0100
TZOFFSETTO:+0000
TZNAME:WET
DTSTART:20251026T010000
END:STANDARD
BEGIN:DAYLIGHT
TZOFFSETFROM:+0000
TZOFFSETTO:+0100
TZNAME:WEST
DTSTART:20260329T010000
END:DAYLIGHT
BEGIN:STANDARD
TZOFFSETFROM:+0100
TZOFFSETTO:+0000
TZNAME:WET
DTSTART:20261025T010000
END:STANDARD
BEGIN:DAYLIGHT
TZOFFSETFROM:+0000
TZOFFSETTO:+0100
TZNAME:WEST
DTSTART:20270328T010000
END:DAYLIGHT
BEGIN:STANDARD
TZOFFSETFROM:+0100
TZOFFSETTO:+0000
TZNAME:WET
DTSTART:20271031T010000
END:STANDARD
END:VTIMEZONE
BEGIN:VTIMEZONE
TZID:Asia/Tokyo
BEGIN:STANDARD
TZOFFSETFROM:+0900
TZOFFSETTO:+0900
TZNAME:JST
DTSTART:20250101T000000
END:STANDARD
END:VTIMEZONE
BEGIN:VEVENT
DTSTART;TZID=Europe/Paris:20260401T090000
DTEND;TZID=Europe/Paris:20260401T150000
DTSTAMP:20260419T151832
CREATED:20260216T232116Z
LAST-MODIFIED:20260216T232116Z
UID:1030540-1775034000-1775055600@trainingcalendar.extremenetworks.com
SUMMARY:Extreme Certified Professional in Extreme Switching
DESCRIPTION:ATP name | Elevate Global IT Solutions Ltd\nDelivery language | English (a good standard of English is required)\nTime Zone: | CET\nRegion: | EMEA\nCost: | $485 / €485 / £400 (conversion fees apply)
URL:https://trainingcalendar.extremenetworks.com/event/extreme-certified-professional-in-extreme-switching-143/
LOCATION:CET – Virtual
CATEGORIES:EMEA,Extreme Certified Professional in Extreme Switching Lab
ORGANIZER;CN="Elevate Global IT Solutions Ltd":MAILTO:info@elevateitsolutions.com
END:VEVENT
BEGIN:VEVENT
DTSTART;TZID=America/New_York:20260330T090000
DTEND;TZID=America/New_York:20260330T170000
DTSTAMP:20260419T151832
CREATED:20251210T233627Z
LAST-MODIFIED:20251210T233627Z
UID:1027779-1774861200-1774890000@trainingcalendar.extremenetworks.com
SUMMARY:Extreme Certified Professional in Extreme Switching
DESCRIPTION:ATP: ArchiTech Academy |\nDelivery Language: English |\nDelivery Region: AMERICAS |\nCost: $ 485.00 USD |
URL:https://trainingcalendar.extremenetworks.com/event/extreme-certified-professional-in-extreme-switching-129/
LOCATION:CDT – Virtual\, United States
CATEGORIES:AMERICAS,Extreme Certified Professional in Extreme Switching Lab
ORGANIZER;CN="ArchiTech Academy":MAILTO:Training@architechacademy.com
END:VEVENT
BEGIN:VEVENT
DTSTART;TZID=America/Mexico_City:20260327T090000
DTEND;TZID=America/Mexico_City:20260327T150000
DTSTAMP:20260419T151832
CREATED:20260318T223223Z
LAST-MODIFIED:20260318T223223Z
UID:1031496-1774602000-1774623600@trainingcalendar.extremenetworks.com
SUMMARY:Extreme Certified Professional in Extreme Switching
DESCRIPTION:ATP: FGNEXT TRAINING |\nDelivery Language: English |\nTime Zone: MEXICO GMT -6 |\nDelivery Region: LATAM / MEXICO |\nCost: $485 USD
URL:https://trainingcalendar.extremenetworks.com/event/extreme-certified-professional-in-extreme-switching-151/
LOCATION:Mexico – Virtual\, Mexico
CATEGORIES:Extreme Certified Professional in Extreme Switching Lab,LATAM
ORGANIZER;CN="FGNext Training":MAILTO:training@fgnext.com
END:VEVENT
BEGIN:VEVENT
DTSTART;TZID=Europe/Warsaw:20260325T090000
DTEND;TZID=Europe/Warsaw:20260325T170000
DTSTAMP:20260419T151832
CREATED:20251209T233120Z
LAST-MODIFIED:20251209T233120Z
UID:1027590-1774429200-1774458000@trainingcalendar.extremenetworks.com
SUMMARY:Extreme Certified Professional in Extreme Switching
DESCRIPTION:VERSIM ATP |\nDelivery language: English |\nTime Zone: Central European |\nRegion: EMEAR |\nCost: 485 $ |\nCost: 450 € |
URL:https://trainingcalendar.extremenetworks.com/event/extreme-certified-professional-in-extreme-switching-126/
LOCATION:CET – Virtual
CATEGORIES:EMEA,Extreme Certified Professional in Extreme Switching Lab
ORGANIZER;CN="Versim S.A.":MAILTO:atp@versim.pl
END:VEVENT
BEGIN:VEVENT
DTSTART;TZID=Asia/Kolkata:20260320T090000
DTEND;TZID=Asia/Kolkata:20260320T170000
DTSTAMP:20260419T151832
CREATED:20251231T230622Z
LAST-MODIFIED:20251231T230622Z
UID:1029472-1773997200-1774026000@trainingcalendar.extremenetworks.com
SUMMARY:Extreme Certified Professional in Extreme Switching
DESCRIPTION:ATP name | Shubhsoft\nDelivery language | English\nTime Zone: | IST (India Standard Time)\nRegion: | APAC\nCost: | 485 $
URL:https://trainingcalendar.extremenetworks.com/event/extreme-certified-professional-in-extreme-switching-132/
LOCATION:India – Virtual\, India
CATEGORIES:APAC,Extreme Certified Professional in Extreme Switching Lab
ORGANIZER;CN="Shubhsoft":MAILTO:training@shubhsoft.com
END:VEVENT
BEGIN:VEVENT
DTSTART;TZID=Asia/Shanghai:20260320T090000
DTEND;TZID=Asia/Shanghai:20260320T170000
DTSTAMP:20260419T151832
CREATED:20251231T230622Z
LAST-MODIFIED:20251231T230622Z
UID:1029475-1773997200-1774026000@trainingcalendar.extremenetworks.com
SUMMARY:Extreme Certified Professional in Extreme Switching
DESCRIPTION:ATP name | Shubhsoft\nDelivery language | English\nTime Zone: | SGT (Singapore Time Zone)\nRegion: | APAC\nCost: | 485 $
URL:https://trainingcalendar.extremenetworks.com/event/extreme-certified-professional-in-extreme-switching-133/
LOCATION:Singapore – Virtual\, Singapore
CATEGORIES:APAC,Extreme Certified Professional in Extreme Switching Lab
ORGANIZER;CN="Shubhsoft":MAILTO:training@shubhsoft.com
END:VEVENT
BEGIN:VEVENT
DTSTART;TZID=Europe/Lisbon:20260317T090000
DTEND;TZID=Europe/Lisbon:20260317T170000
DTSTAMP:20260419T151832
CREATED:20250924T230608Z
LAST-MODIFIED:20250924T230608Z
UID:1024103-1773738000-1773766800@trainingcalendar.extremenetworks.com
SUMMARY:Extreme Certified Professional in Extreme Switching
DESCRIPTION:ATP: Itancia |\nDelivery Language: Italian |\nDelivery Region: EMEA |\nCost: €450\,00€|
URL:https://trainingcalendar.extremenetworks.com/event/extreme-certified-professional-in-extreme-switching-98/
LOCATION:GMT – Virtual
CATEGORIES:EMEA,Extreme Certified Professional in Extreme Switching Lab
ORGANIZER;CN="Itancia":MAILTO:m.coelho@itancia.com
END:VEVENT
BEGIN:VEVENT
DTSTART;TZID=Europe/Lisbon:20260316T090000
DTEND;TZID=Europe/Lisbon:20260316T170000
DTSTAMP:20260419T151832
CREATED:20251006T224106Z
LAST-MODIFIED:20251006T224106Z
UID:1024583-1773651600-1773680400@trainingcalendar.extremenetworks.com
SUMMARY:Extreme Certified Professional in Extreme Switching
DESCRIPTION:ATP: Itancia |\nDelivery Language: Italian |\nDelivery Region: EMEA |\nCost: €450\,00€|
URL:https://trainingcalendar.extremenetworks.com/event/extreme-certified-professional-in-extreme-switching-99/
LOCATION:GMT – Virtual
CATEGORIES:EMEA,Extreme Certified Professional in Extreme Switching Lab
ORGANIZER;CN="Itancia":MAILTO:m.coelho@itancia.com
END:VEVENT
BEGIN:VEVENT
DTSTART;TZID=Asia/Tokyo:20260313T090000
DTEND;TZID=Asia/Tokyo:20260313T160000
DTSTAMP:20260419T151832
CREATED:20260306T230150Z
LAST-MODIFIED:20260306T230150Z
UID:1031061-1773392400-1773417600@trainingcalendar.extremenetworks.com
SUMMARY:Extreme Certified Professional in Extreme Switching
DESCRIPTION:ATP: FGNEXT TRAINING |\nDelivery Language: English |\nTime Zone: Japan Standard Time (JST) |\nDelivery Region: JAPAN |\nCost: $485 USD
URL:https://trainingcalendar.extremenetworks.com/event/extreme-certified-professional-in-extreme-switching-148/
LOCATION:Japan – Virtual\, Japan
CATEGORIES:APAC,Extreme Certified Professional in Extreme Switching Lab
ORGANIZER;CN="FGNext Training":MAILTO:training@fgnext.com
END:VEVENT
BEGIN:VEVENT
DTSTART;TZID=America/Mexico_City:20260313T090000
DTEND;TZID=America/Mexico_City:20260313T150000
DTSTAMP:20260419T151832
CREATED:20260306T230150Z
LAST-MODIFIED:20260306T230150Z
UID:1031064-1773392400-1773414000@trainingcalendar.extremenetworks.com
SUMMARY:Extreme Certified Professional in Extreme Switching
DESCRIPTION:ATP: FGNEXT TRAINING |\nDelivery Language: English |\nTime Zone: MEXICO GMT -6 |\nDelivery Region: LATAM / MEXICO |\nCost: $485 USD
URL:https://trainingcalendar.extremenetworks.com/event/extreme-certified-professional-in-extreme-switching-149/
LOCATION:Mexico – Virtual\, Mexico
CATEGORIES:Extreme Certified Professional in Extreme Switching Lab,LATAM
ORGANIZER;CN="FGNext Training":MAILTO:training@fgnext.com
END:VEVENT
BEGIN:VEVENT
DTSTART;TZID=Europe/Paris:20260313T090000
DTEND;TZID=Europe/Paris:20260313T150000
DTSTAMP:20260419T151832
CREATED:20251219T175044Z
LAST-MODIFIED:20251219T175044Z
UID:1028088-1773392400-1773414000@trainingcalendar.extremenetworks.com
SUMMARY:Extreme Certified Professional in Extreme Switching
DESCRIPTION:ATP name | Elevate Global IT Solutions Ltd\nDelivery language | English (a good standard of English is required)\nTime Zone: | CET\nRegion: | EMEA\nCost: | $485 / €485 / £400 (conversion fees apply)
URL:https://trainingcalendar.extremenetworks.com/event/extreme-certified-professional-in-extreme-switching-131/
LOCATION:CET – Virtual
CATEGORIES:EMEA,Extreme Certified Professional in Extreme Switching Lab
ORGANIZER;CN="Elevate Global IT Solutions Ltd":MAILTO:info@elevateitsolutions.com
END:VEVENT
BEGIN:VEVENT
DTSTART;TZID=America/Mexico_City:20260306T090000
DTEND;TZID=America/Mexico_City:20260306T150000
DTSTAMP:20260419T151832
CREATED:20260225T231725Z
LAST-MODIFIED:20260225T231725Z
UID:1030702-1772787600-1772809200@trainingcalendar.extremenetworks.com
SUMMARY:Extreme Certified Professional in Extreme Switching
DESCRIPTION:ATP: FGNEXT TRAINING |\nDelivery Language: English |\nTime Zone: MEXICO GMT -6 |\nDelivery Region: LATAM / MEXICO |\nCost: $485 USD
URL:https://trainingcalendar.extremenetworks.com/event/extreme-certified-professional-in-extreme-switching-146/
LOCATION:Mexico – Virtual\, Mexico
CATEGORIES:Extreme Certified Professional in Extreme Switching Lab,LATAM
ORGANIZER;CN="FGNext Training":MAILTO:training@fgnext.com
END:VEVENT
BEGIN:VEVENT
DTSTART;TZID=Asia/Shanghai:20260226T090000
DTEND;TZID=Asia/Shanghai:20260226T170000
DTSTAMP:20260419T151832
CREATED:20251202T223624Z
LAST-MODIFIED:20251202T223624Z
UID:1027521-1772096400-1772125200@trainingcalendar.extremenetworks.com
SUMMARY:Extreme Certified Professional in Extreme Switching
DESCRIPTION:ATP name | Shubhsoft\nDelivery language | English\nTime Zone: | SGT (Singapore Time Zone)\nRegion: | APAC\nCost: | 485 $
URL:https://trainingcalendar.extremenetworks.com/event/extreme-certified-professional-in-extreme-switching-123/
LOCATION:Singapore – Virtual\, Singapore
CATEGORIES:APAC,Extreme Certified Professional in Extreme Switching Lab
ORGANIZER;CN="Shubhsoft":MAILTO:training@shubhsoft.com
END:VEVENT
BEGIN:VEVENT
DTSTART;TZID=Asia/Kolkata:20260226T090000
DTEND;TZID=Asia/Kolkata:20260226T170000
DTSTAMP:20260419T151832
CREATED:20251202T223623Z
LAST-MODIFIED:20251202T223623Z
UID:1027518-1772096400-1772125200@trainingcalendar.extremenetworks.com
SUMMARY:Extreme Certified Professional in Extreme Switching
DESCRIPTION:ATP name | Shubhsoft\nDelivery language | English\nTime Zone: | IST (India Standard Time)\nRegion: | APAC\nCost: | 485 $
URL:https://trainingcalendar.extremenetworks.com/event/extreme-certified-professional-in-extreme-switching-122/
LOCATION:India – Virtual\, India
CATEGORIES:APAC,Extreme Certified Professional in Extreme Switching Lab
ORGANIZER;CN="Shubhsoft":MAILTO:training@shubhsoft.com
END:VEVENT
BEGIN:VEVENT
DTSTART;TZID=Europe/Paris:20260224T090000
DTEND;TZID=Europe/Paris:20260224T170000
DTSTAMP:20260419T151832
CREATED:20251202T223623Z
LAST-MODIFIED:20251202T223623Z
UID:1027509-1771923600-1771952400@trainingcalendar.extremenetworks.com
SUMMARY:Extreme Certified Professional in Extreme Switching
DESCRIPTION:ATP: CoelhoCorp |\nDelivery Region: EMEA |\nCost: $ 485.00 USD |\nTime Zone: CET UTC +1 |
URL:https://trainingcalendar.extremenetworks.com/event/extreme-certified-professional-in-extreme-switching-121/
LOCATION:CET – Virtual
CATEGORIES:EMEA,Extreme Certified Professional in Extreme Switching Lab
ORGANIZER;CN="CoelhoCorp Solucoes Em Tecnologia":MAILTO:atp@coelhocorp.com
END:VEVENT
BEGIN:VEVENT
DTSTART;TZID=America/New_York:20260224T080000
DTEND;TZID=America/New_York:20260224T170000
DTSTAMP:20260419T151832
CREATED:20251202T223623Z
LAST-MODIFIED:20251202T223623Z
UID:1027506-1771920000-1771952400@trainingcalendar.extremenetworks.com
SUMMARY:Extreme Certified Professional in Extreme Switching
DESCRIPTION:ATP: CoelhoCorp |\nDelivery Region: AMERICAS |\nCost: $ 485.00 USD |\nTime Zone: EST UTC-5 |
URL:https://trainingcalendar.extremenetworks.com/event/extreme-certified-professional-in-extreme-switching-120/
LOCATION:EST – Virtual\, United States
CATEGORIES:AMERICAS,Extreme Certified Professional in Extreme Switching Lab
ORGANIZER;CN="CoelhoCorp Solucoes Em Tecnologia":MAILTO:atp@coelhocorp.com
END:VEVENT
BEGIN:VEVENT
DTSTART;TZID=Europe/Warsaw:20260223T090000
DTEND;TZID=Europe/Warsaw:20260223T170000
DTSTAMP:20260419T151832
CREATED:20251106T223625Z
LAST-MODIFIED:20251106T223625Z
UID:1026957-1771837200-1771866000@trainingcalendar.extremenetworks.com
SUMMARY:Extreme Certified Professional in Extreme Switching
DESCRIPTION:VERSIM ATP |\nDelivery language: English |\nTime Zone: Central European |\nRegion: EMEAR |\nCost: 485 $ |\nCost: 450 € |
URL:https://trainingcalendar.extremenetworks.com/event/extreme-certified-professional-in-extreme-switching-112/
LOCATION:CET – Virtual
CATEGORIES:EMEA,Extreme Certified Professional in Extreme Switching Lab
ORGANIZER;CN="Versim S.A.":MAILTO:atp@versim.pl
END:VEVENT
BEGIN:VEVENT
DTSTART;VALUE=DATE:20260220
DTEND;VALUE=DATE:20260221
DTSTAMP:20260419T151832
CREATED:20251210T233623Z
LAST-MODIFIED:20251210T233623Z
UID:1027689-1771545600-1771631999@trainingcalendar.extremenetworks.com
SUMMARY:Extreme Certified Professional in Extreme Switching
DESCRIPTION:KAPPA DATA BELGIUM\nLanguage : DUTCH/FRENCH OR ENGLISH\nPRICE: €560\nThis 1-day assessment tests your practical knowledge of the four previous training modules:\nInstallation & Configuration\nManagement\nAdvanced Configuration\nTroubleshooting\nOn the day of the ECP assessment\, students will have approximately 3 hours of free lab practice before official time starts. The lab exercises will be released just before the start time and students will work on them alone. At the end\, the reviewing ATP will grade the assessment. If you pass this assessment\, you will earn the title of Extreme Certified Professional in Extreme Switching.\nRequirements\nYou hold the following valid certificates from the regular training program:\nExtreme Switching – Installation & Configuration\nExtreme Switching – Management\nExtreme Switching – Advanced Configuration\nExtreme Switching – Troubleshooting\nFinally\, you also passed the Skills Analysis Track of the ECP in Extreme Fabric. This consists of a number of multiple-choice questions and tests your theoretical baggage.\nhttps://dojo.extremenetworks.com/courses/extreme-skills-analysis-tool-extreme-switching-exam/\nUnfortunately\, if you do not meet any of these requirements\, you cannot participate in the ECP assessment.\nDetailed agenda of this course\, please follow the link below\nLanguage : DUTCH/FRENCH OR ENGLISH\nPRICE: €560
URL:https://trainingcalendar.extremenetworks.com/event/extreme-certified-professional-in-extreme-switching-128/
LOCATION:CET – Virtual
CATEGORIES:Extreme Certified Professional in Extreme Switching Lab
ORGANIZER;CN="Kappa Data":MAILTO:training@kappadata.eu
END:VEVENT
BEGIN:VEVENT
DTSTART;TZID=Europe/Paris:20260217T090000
DTEND;TZID=Europe/Paris:20260217T150000
DTSTAMP:20260419T151832
CREATED:20260123T223347Z
LAST-MODIFIED:20260123T223347Z
UID:1030075-1771318800-1771340400@trainingcalendar.extremenetworks.com
SUMMARY:Extreme Certified Professional in Extreme Switching
DESCRIPTION:ATP name | Elevate Global IT Solutions Ltd\nDelivery language | English (a good standard of English is required)\nTime Zone: | CET\nRegion: | EMEA\nCost: | $485 / €485 / £400 (conversion fees apply)
URL:https://trainingcalendar.extremenetworks.com/event/extreme-certified-professional-in-extreme-switching-139/
LOCATION:CET – Virtual
CATEGORIES:EMEA,Extreme Certified Professional in Extreme Switching Lab
ORGANIZER;CN="Elevate Global IT Solutions Ltd":MAILTO:info@elevateitsolutions.com
END:VEVENT
END:VCALENDAR