BEGIN:VCALENDAR
VERSION:2.0
PRODID:-//Training Calendar - ECPv6.15.11//NONSGML v1.0//EN
CALSCALE:GREGORIAN
METHOD:PUBLISH
X-ORIGINAL-URL:https://trainingcalendar.extremenetworks.com
X-WR-CALDESC:Events for Training Calendar
REFRESH-INTERVAL;VALUE=DURATION:PT1H
X-Robots-Tag:noindex
X-PUBLISHED-TTL:PT1H
BEGIN:VTIMEZONE
TZID:Asia/Shanghai
BEGIN:STANDARD
TZOFFSETFROM:+0800
TZOFFSETTO:+0800
TZNAME:CST
DTSTART:20250101T000000
END:STANDARD
END:VTIMEZONE
BEGIN:VTIMEZONE
TZID:Asia/Kolkata
BEGIN:STANDARD
TZOFFSETFROM:+0530
TZOFFSETTO:+0530
TZNAME:IST
DTSTART:20250101T000000
END:STANDARD
END:VTIMEZONE
BEGIN:VTIMEZONE
TZID:Europe/Lisbon
BEGIN:DAYLIGHT
TZOFFSETFROM:+0000
TZOFFSETTO:+0100
TZNAME:WEST
DTSTART:20250330T010000
END:DAYLIGHT
BEGIN:STANDARD
TZOFFSETFROM:+0100
TZOFFSETTO:+0000
TZNAME:WET
DTSTART:20251026T010000
END:STANDARD
BEGIN:DAYLIGHT
TZOFFSETFROM:+0000
TZOFFSETTO:+0100
TZNAME:WEST
DTSTART:20260329T010000
END:DAYLIGHT
BEGIN:STANDARD
TZOFFSETFROM:+0100
TZOFFSETTO:+0000
TZNAME:WET
DTSTART:20261025T010000
END:STANDARD
BEGIN:DAYLIGHT
TZOFFSETFROM:+0000
TZOFFSETTO:+0100
TZNAME:WEST
DTSTART:20270328T010000
END:DAYLIGHT
BEGIN:STANDARD
TZOFFSETFROM:+0100
TZOFFSETTO:+0000
TZNAME:WET
DTSTART:20271031T010000
END:STANDARD
END:VTIMEZONE
BEGIN:VTIMEZONE
TZID:Europe/Paris
BEGIN:DAYLIGHT
TZOFFSETFROM:+0100
TZOFFSETTO:+0200
TZNAME:CEST
DTSTART:20250330T010000
END:DAYLIGHT
BEGIN:STANDARD
TZOFFSETFROM:+0200
TZOFFSETTO:+0100
TZNAME:CET
DTSTART:20251026T010000
END:STANDARD
BEGIN:DAYLIGHT
TZOFFSETFROM:+0100
TZOFFSETTO:+0200
TZNAME:CEST
DTSTART:20260329T010000
END:DAYLIGHT
BEGIN:STANDARD
TZOFFSETFROM:+0200
TZOFFSETTO:+0100
TZNAME:CET
DTSTART:20261025T010000
END:STANDARD
BEGIN:DAYLIGHT
TZOFFSETFROM:+0100
TZOFFSETTO:+0200
TZNAME:CEST
DTSTART:20270328T010000
END:DAYLIGHT
BEGIN:STANDARD
TZOFFSETFROM:+0200
TZOFFSETTO:+0100
TZNAME:CET
DTSTART:20271031T010000
END:STANDARD
END:VTIMEZONE
BEGIN:VEVENT
DTSTART;TZID=Asia/Shanghai:20260508T090000
DTEND;TZID=Asia/Shanghai:20260508T170000
DTSTAMP:20260419T124035
CREATED:20260224T230621Z
LAST-MODIFIED:20260224T230621Z
UID:1030636-1778230800-1778259600@trainingcalendar.extremenetworks.com
SUMMARY:Extreme Certified Professional in Extreme Switching
DESCRIPTION:ATP name | Shubhsoft\nDelivery language | English\nTime Zone: | SGT (Singapore Time Zone)\nRegion: | APAC\nCost: | 485 $
URL:https://trainingcalendar.extremenetworks.com/event/extreme-certified-professional-in-extreme-switching-144/
LOCATION:Singapore – Virtual\, Singapore
CATEGORIES:APAC,Extreme Certified Professional in Extreme Switching Lab
ORGANIZER;CN="Shubhsoft":MAILTO:training@shubhsoft.com
END:VEVENT
BEGIN:VEVENT
DTSTART;TZID=Asia/Kolkata:20260508T090000
DTEND;TZID=Asia/Kolkata:20260508T170000
DTSTAMP:20260419T124035
CREATED:20260224T230621Z
LAST-MODIFIED:20260224T230621Z
UID:1030639-1778230800-1778259600@trainingcalendar.extremenetworks.com
SUMMARY:Extreme Certified Professional in Extreme Switching
DESCRIPTION:ATP name | Shubhsoft\nDelivery language | English\nTime Zone: | IST (India Standard Time)\nRegion: | APAC\nCost: | 485 $
URL:https://trainingcalendar.extremenetworks.com/event/extreme-certified-professional-in-extreme-switching-145/
LOCATION:India – Virtual\, India
CATEGORIES:APAC,Extreme Certified Professional in Extreme Switching Lab
ORGANIZER;CN="Shubhsoft":MAILTO:training@shubhsoft.com
END:VEVENT
BEGIN:VEVENT
DTSTART;TZID=Europe/Lisbon:20260511T090000
DTEND;TZID=Europe/Lisbon:20260511T170000
DTSTAMP:20260419T124035
CREATED:20260311T224120Z
LAST-MODIFIED:20260311T224120Z
UID:1031167-1778490000-1778518800@trainingcalendar.extremenetworks.com
SUMMARY:Extreme Certified Professional in Extreme Switching
DESCRIPTION:ATP: Itancia |\nDelivery Language: English |\nDelivery Region: EMEA |\nCost: 450\,00€|
URL:https://trainingcalendar.extremenetworks.com/event/extreme-certified-professional-in-extreme-switching-150/
LOCATION:GMT – Virtual
CATEGORIES:EMEA,Extreme Certified Professional in Extreme Switching Lab
ORGANIZER;CN="Itancia":MAILTO:m.coelho@itancia.com
END:VEVENT
BEGIN:VEVENT
DTSTART;TZID=Europe/Paris:20260520T090000
DTEND;TZID=Europe/Paris:20260520T150000
DTSTAMP:20260419T124035
CREATED:20260206T223622Z
LAST-MODIFIED:20260206T223622Z
UID:1030464-1779267600-1779289200@trainingcalendar.extremenetworks.com
SUMMARY:Extreme Certified Professional in Extreme Switching
DESCRIPTION:ATP name | Elevate Global IT Solutions Ltd\nDelivery language | English (a good standard of English is required)\nTime Zone: | CET\nRegion: | EMEA\nCost: | $485 / €485 / £400 (currency conversion fees apply)
URL:https://trainingcalendar.extremenetworks.com/event/extreme-certified-professional-in-extreme-switching-142/
LOCATION:CET – Virtual
CATEGORIES:EMEA,Extreme Certified Professional in Extreme Switching Lab
ORGANIZER;CN="Elevate Global IT Solutions Ltd":MAILTO:info@elevateitsolutions.com
END:VEVENT
BEGIN:VEVENT
DTSTART;VALUE=DATE:20260526
DTEND;VALUE=DATE:20260528
DTSTAMP:20260419T124035
CREATED:20251210T233629Z
LAST-MODIFIED:20251210T233629Z
UID:1027803-1779753600-1779926399@trainingcalendar.extremenetworks.com
SUMMARY:Extreme Switching – Accelerated
DESCRIPTION:KAPPA DATA FRANCE\nAccelerated training is designed to take engineers already holding the Installation and Configuration knowledge credential and make ready to become Extreme Certified Professionals. The classes are fast paced\, condensed and intensive\, and only suitable for experienced engineers with no fundamentals being covered.\nThe Accelerated program is only accessible upon completing the Extreme Skills Analysis Tool for Extreme Switching (https://training.extremenetworks.com/extreme-skills-analysis-tool/). Depending on the outcome\, you will be granted access to this Accelerated training program.\nPrerequisites\nThe attendee must possess the Extreme Switching – Installation and Configuration certification. Based on the results of the Extreme Skills Analysis Tool\, you will be advised either to follow the full training track (Management\, Advanced Configuration\, Troubleshooting) or to enroll directly in the Accelerated course.\nObjectives\nOn completion of the Accelerated course\, you will be enrolled in the Professional Assessment online exam and once this has been passed you will be awarded the Management\, Advanced Configuration and Troubleshooting Knowledge Credentials and be able to proceed to the Professional Lab Assessment.\nDetailed agenda of this course\, please follow the link below\nLanguage : FRENCH OR ENGLISH\nPRICE: €1000
URL:https://trainingcalendar.extremenetworks.com/event/extreme-switching-accelerated-41/
LOCATION:CET – Virtual
CATEGORIES:Extreme Switching Accelerated
ORGANIZER;CN="Kappa Data France":MAILTO:training@kappadata.eu
END:VEVENT
END:VCALENDAR